BEGIN:VCALENDAR
VERSION:2.0
PRODID:-//chikkutakku.com//RDFCal 1.0//EN
X-WR-CALDESC:GoogleカレンダーやiCalendar形式情報を共有シェ
 アしましょう。近所のイベントから全国のイベントま
 で今日のイベント検索やスケジュールを決めるならち
 っくたっく
X-WR-CALNAME:ちっくたっく
X-WR-TIMEZONE:UTC
BEGIN:VEVENT
SUMMARY:Modern Ancient
DTSTART;VALUE=DATE:20260521
DTEND;VALUE=DATE:20260522
UID:178296473518
DESCRIPTION:open 19:00 / start 19:30\n「Modern Ancient」\n古代の楽
 曲をいまの音に\n出演:\n佐藤えりか contrabass\n山口亮志 g
 uitar\n石原雄治 drums\, synth\n料金:\n￥3000＋order\n\n即興音
 楽家によるメソポタミア、古代ギリシャや平安時代の
 楽曲の演奏。古代と現代が交錯する。\n演奏予定曲：月
 の女神ニッカルへの賛歌 (古代メソポタミア)、\nデルフ
 ィーの賛歌 (古代ギリシャ) 、楊真操 (平安楽琵琶秘曲) 
   他\n\n【関連/参考ページ】\nhttp://www.clopclop.jp （西荻窪
  CLOP CLOP）
LOCATION:西荻窪 CLOP CLOP【関東】
END:VEVENT
END:VCALENDAR
