BEGIN:VCALENDAR
VERSION:2.0
PRODID:-//chikkutakku.com//RDFCal 1.0//EN
X-WR-CALDESC:GoogleカレンダーやiCalendar形式情報を共有シェ
 アしましょう。近所のイベントから全国のイベントま
 で今日のイベント検索やスケジュールを決めるならち
 っくたっく
X-WR-CALNAME:ちっくたっく
X-WR-TIMEZONE:UTC
BEGIN:VEVENT
SUMMARY:(Allie\, Rita\, Crystal\, blaze\, bobbi\, Dakota\, hope\, cola) w/
  Tom and Leah
DTSTART;VALUE=DATE-TIME:20260421T130000Z
DTEND;VALUE=DATE-TIME:20260421T140000Z
UID:178503491764
DESCRIPTION:(Allie\, Rita\, Crystal\, blaze\, bobbi\, Dakota\, hope\, cola
 ) w/ Tom and Leah
LOCATION:
END:VEVENT
END:VCALENDAR
