BEGIN:VCALENDAR
VERSION:2.0
PRODID:-//chikkutakku.com//RDFCal 1.0//EN
X-WR-CALDESC:GoogleカレンダーやiCalendar形式情報を共有シェ
 アしましょう。近所のイベントから全国のイベントま
 で今日のイベント検索やスケジュールを決めるならち
 っくたっく
X-WR-CALNAME:ちっくたっく
X-WR-TIMEZONE:UTC
BEGIN:VEVENT
SUMMARY:【謎解き×異変探し×雰囲気ホラー】「異変調査
 官採用試験」
DTSTART;VALUE=DATE-TIME:20260510T130000Z
DTEND;VALUE=DATE-TIME:20260510T144500Z
UID:178618938855
DESCRIPTION:【イベント主催者】\n　描缶OG\n【イベント内
 容】\n　──この試験、何かがおかしい。\n\nあなたの
 観察力と推理力が試される——\nVRChatで体験する《謎解
 き×異変探し》の体験型雰囲気ホラーイベント！\n\n本
 イベントでは、参加者の皆さんに異変調査の資質を測
 る試験を受けていただきます。\n・ひらめきを武器に問
 題を解き明かす「筆記試験」\n・一家失踪事件のあった
 空き家を探索する「実技試験」\nand more...\nそこで起こ
 る“異変”に気づき、謎を解き、処理してください。\n
 \n──異変は、すぐそこにある。\n\n・ジャンプスケア
 ・虫要素はありません。\n・一部、精神的負荷を伴う状
 況（暗所・突発音など）があります。\n・第三者への口
 外・ネタバレ行為は禁止です。\n\n公式X：https://x.com/ZITT
 E_nazo\nタグ：#異変調査官試験\n【イベントジャンル】\n
 　ロールプレイ\, 定期イベント\n【参加条件（モデル、
 人数制限など）】\n　・PCVRのみ\n・日本語でVC（ボイス
 チャット）ができる事。\n【参加方法】\n　※どちらか1
 つを選んで応募\n①【リクイン制】\n試験日当日21:55〜21
 :58に\n「描缶OG」へリクエストインバイトを送信（※事
 前にフレンド申請が必要）\n②【事前予約制】\n公式Xに
 てポストしている該当予約フォームから予約\n【備考】
 \n　詳細は公式アカウントをご確認ください。\n公式ア
 カウント：@ZITTE_nazo
LOCATION:
END:VEVENT
END:VCALENDAR
