BEGIN:VCALENDAR
VERSION:2.0
PRODID:-//chikkutakku.com//RDFCal 1.0//EN
X-WR-CALDESC:GoogleカレンダーやiCalendar形式情報を共有シェ
 アしましょう。近所のイベントから全国のイベントま
 で今日のイベント検索やスケジュールを決めるならち
 っくたっく
X-WR-CALNAME:ちっくたっく
X-WR-TIMEZONE:UTC
BEGIN:VEVENT
SUMMARY:(รองฯพญ.สิริมา)เชิญประชุ
 มคณะกรมการจังหวัดสมุทรสง
 คราม
DTSTART;VALUE=DATE-TIME:20260427T020000Z
DTEND;VALUE=DATE-TIME:20260427T050000Z
UID:178775095608
DESCRIPTION:้https://moivcs.webex.com/moivcs/j.php?MTID=m5c3671eff22c1d2
 408668372a3c2c07a\n\n通过 Google Meet 加入：https://meet.google.com/b
 bf-qmuk-jpe\n\n如需详细了解 Google Meet，请访问：https://suppor
 t.google.com/a/users/answer/9282720
LOCATION:โดยหน่วยงานนอกศาลากลา
 งเข้าร่วมประชุมผ่านระบบส
 ื่อสารอิเล็กโทรนิกส์(Webex)ตา
 มเอกสารแนบ
END:VEVENT
END:VCALENDAR
