BEGIN:VCALENDAR
VERSION:2.0
PRODID:-//chikkutakku.com//RDFCal 1.0//EN
X-WR-CALDESC:GoogleカレンダーやiCalendar形式情報を共有シェ
 アしましょう。近所のイベントから全国のイベントま
 で今日のイベント検索やスケジュールを決めるならち
 っくたっく
X-WR-CALNAME:ちっくたっく
X-WR-TIMEZONE:UTC
BEGIN:VEVENT
SUMMARY:BEST OF THE SUPER Jr. 33 （大阪・大阪市中央体育館・
 サブアリーナ（Asueアリーナ大阪））
DTSTART;VALUE=DATE-TIME:20260522T093000Z
DTEND;VALUE=DATE-TIME:20260522T123000Z
UID:179161906666
DESCRIPTION:BEST OF THE SUPER Jr. 33 （大阪・大阪市中央体育館
 ・サブアリーナ（Asueアリーナ大阪））
LOCATION:
END:VEVENT
END:VCALENDAR
