BEGIN:VCALENDAR
VERSION:2.0
PRODID:-//chikkutakku.com//RDFCal 1.0//EN
X-WR-CALDESC:GoogleカレンダーやiCalendar形式情報を共有シェ
 アしましょう。近所のイベントから全国のイベントま
 で今日のイベント検索やスケジュールを決めるならち
 っくたっく
X-WR-CALNAME:ちっくたっく
X-WR-TIMEZONE:UTC
BEGIN:VEVENT
SUMMARY:【M3】
DTSTART;VALUE=DATE-TIME:20260426T013000Z
DTEND;VALUE=DATE-TIME:20260426T063000Z
UID:179364769003
DESCRIPTION:■イベント名\nM3-2026春 (第57回即売会)\n■ブー
 ス\n「いとう屋さん」\nか-06a\n■日時\n4/26(日)\n10:30〜15:3
 0\n■会場\n流通センター\n■備考\n新譜「Favorite curtain cal
 l Ⅱ〜劇団ぱすてるからっと〜」\n✨選べるブロマイド
 特典あり！\n✨M3限定ブロマイドあり！
LOCATION:
END:VEVENT
END:VCALENDAR
