BEGIN:VCALENDAR
VERSION:2.0
PRODID:-//chikkutakku.com//RDFCal 1.0//EN
X-WR-CALDESC:GoogleカレンダーやiCalendar形式情報を共有シェ
 アしましょう。近所のイベントから全国のイベントま
 で今日のイベント検索やスケジュールを決めるならち
 っくたっく
X-WR-CALNAME:ちっくたっく
X-WR-TIMEZONE:UTC
BEGIN:VEVENT
SUMMARY:Ray Skjelbred & the Hot Corner
DTSTART;VALUE=DATE-TIME:20260514T023000Z
DTEND;VALUE=DATE-TIME:20260514T043000Z
UID:179965169137
DESCRIPTION:Hot Chicago style jazz with plenty of blues spread over a swin
 g rhythm section. Ray Skjelbred is on the road out of Seattle\, coming to 
 San Francisco to record a new album with the Hot Corner. The band is looki
 ng forward to playing some of the new songs and arrangements they'll be re
 cording.Ray Skjelbred\, pianoClint Baker\, bassRiley Baker\, drumsKatie Ca
 vera\, guitarAndy Schumm\, reeds $25 cover charge (cash at the door\, ple
 ase) / byob Students\, $10.For a reservation\, call the bookshop at 415-5
 86-3733. Ray writes: Actually I'm just a neighborhood kid growing up in 
 Chicago and growing older in Seattle\, all at the same time! I have genera
 lly thought of myself as an English teacher first\, then pianist and poet.
  My life has had the human influence of family\, farmers\, cowboys\, baseb
 all players\, actors\, writers and musicians\, but perhaps I feel most aff
 ected  by rivers\, forests and mountains.      I listen to red-winged bla
 ckbirds\, wooden bats hitting baseballs\, wind moving through poplar trees
  and dog yawns. Also music---Norwegian Hardanger fiddle music\, Tibetan ho
 rns\, Charles Ives\, old cowboys and jazz. I always lean toward sounds tha
 t reassure me of the truth and beauty of the world we inhabit.        I lo
 ve music that shows passion\, daring and surprise. For me\, the pianists I
  admire who most represent these ideas and to whom I listen most often are
  Earl Hines\, Jess Stacy\, Joe Sullivan\, Mary Lou Williams\, Art Hodes\, 
 Thelonious Monk\, Zinky Cohn\, George Zack\, Cassino Simpson\, Horace Hend
 erson\, Frank Melrose\, Jimmy Yancey\, Big Maceo\, Bill Evans\, Burt Bales
 \, Duke Ellington\, Count Basie\, Paul Lingle\, Alex Hill\, Sir Charles Th
 ompson and Eddie Whitley.      I am proud that my father came from Norway\
 , that my mother's family consisted of farmers in Wisconsin and that my wi
 fe and children are good guides and partners in my life.
LOCATION:
END:VEVENT
END:VCALENDAR
