BEGIN:VCALENDAR
VERSION:2.0
PRODID:-//chikkutakku.com//RDFCal 1.0//EN
X-WR-CALDESC:GoogleカレンダーやiCalendar形式情報を共有シェ
 アしましょう。近所のイベントから全国のイベントま
 で今日のイベント検索やスケジュールを決めるならち
 っくたっく
X-WR-CALNAME:ちっくたっく
X-WR-TIMEZONE:UTC
BEGIN:VEVENT
SUMMARY:百鬼夜艶　撫で雑イベント　
DTSTART;VALUE=DATE-TIME:20260424T130000Z
DTEND;VALUE=DATE-TIME:20260424T141500Z
UID:180072675580
DESCRIPTION:【イベント主催者】\n　ひまくん\n【イベント
 内容】\n　イベント概要\n\nイベント名：百鬼夜艶\nイベ
 ントタグ：#Hyakki_vrc\n\n通常運営日：不定期　月1〜2\n開
 催時間：22:00～23:15\n\nイベントコンセプト\n「百鬼夜宴
 」は、\n\n1対1・個室制のゆったりとした空間で鬼の子
 に撫でて貰えるイベントになります\n\nキャストとお客
 様様が2人の空間で\n\n・なでなで\n\n・0距離でコミニュ
 ケーション\n\nができるイベントとなっております\n\nロ
 ーテーション15分3回となっております\n\nぜひ、おいで
 やす〜\n\nぜひ、グループの参加もお願いします\nhttps://
 vrc.group/ONI.2645\n\n\nリクイン、事前抽選制\n\nx公式(旧Twitt
 er)百鬼夜艶にて毎月不定期ですが、事前抽選をおこっ
 なっております。\nそれと、当日リクインもありますの
 で、詳しくはX(旧Twitter)ご覧ください。\n\n概要など、ル
 ールも記載しておりますのでご確認お願い申し上げま
 す\n\nhttps://x.com/vrchyakkiyaen?s=21&t=KxlqwXoWlPNFthmY_7GT-g\n\n\n是
 非グループの参加もお願いいたします\n\nhttps://vrc.group/O
 NI.2645\n\n\n\n\n【イベントジャンル】\n　改変アバター交
 流会\, その他交流会\, 店舗系イベント\, 初心者向けイ
 ベント\, 定期イベント\n【参加条件（モデル、人数制限
 など）】\n　なるべく人型できてください\n50m以下のア
 バターでお越しください\n【参加方法】\n　リクイン、
 事前抽選制\n\nx公式(旧Twitter)百鬼夜艶にて毎月不定期で
 すが、事前抽選をおこっなっております。\nそれと、当
 日リクインもありますので、詳しくはX(旧Twitter)ご覧く
 ださい。\n\n概要など、ルールも記載しておりますので
 ご確認お願い申し上げます\n\nhttps://x.com/vrchyakkiyaen?s=21&t
 =KxlqwXoWlPNFthmY_7GT-g\n\n【備考】\n　ご来店お待ちしており
 ます
LOCATION:
END:VEVENT
END:VCALENDAR
