BEGIN:VCALENDAR
VERSION:2.0
PRODID:-//chikkutakku.com//RDFCal 1.0//EN
X-WR-CALDESC:GoogleカレンダーやiCalendar形式情報を共有シェ
 アしましょう。近所のイベントから全国のイベントま
 で今日のイベント検索やスケジュールを決めるならち
 っくたっく
X-WR-CALNAME:ちっくたっく
X-WR-TIMEZONE:UTC
BEGIN:VEVENT
SUMMARY:【Android 対応】第32回森のレストラン『ノクトア
 』
DTSTART;VALUE=DATE-TIME:20260421T130000Z
DTEND;VALUE=DATE-TIME:20260421T140000Z
UID:180361511152
DESCRIPTION:【イベント主催者】\n　miu705\n【イベント内容
 】\n　不思議な絵本の扉を開けるとそこは……愉快な動
 物の仲間たちの森のレストランがありました。このイ
 ベントはレストランRPイベントとなります！ご飯を食べ
 に来るのもよし！お客さん同士でお話するのもよしで
 す。たくさんのお料理を準備してご来店お待ちしてお
 ります。\n【イベントジャンル】\n　その他交流会\, 店
 舗系イベント\, ロールプレイ\, 初心者向けイベント\n【
 参加条件（モデル、人数制限など）】\n　アバターはア
 ンドロイド対応でお願いします\n【参加方法】\n　定刻
 となりましたら【miu705】にjoinお願いします\n【備考】\n
 　https://x.com/mori_noctua/status/2042191358547693924?s=20
LOCATION:
END:VEVENT
END:VCALENDAR
