BEGIN:VCALENDAR
VERSION:2.0
PRODID:-//chikkutakku.com//RDFCal 1.0//EN
X-WR-CALDESC:GoogleカレンダーやiCalendar形式情報を共有シェ
 アしましょう。近所のイベントから全国のイベントま
 で今日のイベント検索やスケジュールを決めるならち
 っくたっく
X-WR-CALNAME:ちっくたっく
X-WR-TIMEZONE:UTC
BEGIN:VEVENT
SUMMARY:【POD】「軽減税率」田淵隆明が語る、数学・理科
 カリキュラム再考
DTSTART;VALUE=DATE:20260502
DTEND;VALUE=DATE:20260503
UID:180415065966
DESCRIPTION:2026-05-03【POD】「軽減税率」田淵隆明が語る、
 数学・理科カリキュラム再考田淵 隆明デザインエッグ
 株式会社
LOCATION:
END:VEVENT
END:VCALENDAR
