BEGIN:VCALENDAR
VERSION:2.0
PRODID:-//chikkutakku.com//RDFCal 1.0//EN
X-WR-CALDESC:GoogleカレンダーやiCalendar形式情報を共有シェ
 アしましょう。近所のイベントから全国のイベントま
 で今日のイベント検索やスケジュールを決めるならち
 っくたっく
X-WR-CALNAME:ちっくたっく
X-WR-TIMEZONE:UTC
BEGIN:VEVENT
SUMMARY:いちばんやさしい株式会社の議事録作成全集
DTSTART;VALUE=DATE:20260517
DTEND;VALUE=DATE:20260518
UID:180462501493
DESCRIPTION:2026-05-18いちばんやさしい株式会社の議事録作
 成全集岡住 貞宏自由国民社
LOCATION:
END:VEVENT
END:VCALENDAR
