BEGIN:VCALENDAR
VERSION:2.0
PRODID:-//chikkutakku.com//RDFCal 1.0//EN
X-WR-CALDESC:GoogleカレンダーやiCalendar形式情報を共有シェ
 アしましょう。近所のイベントから全国のイベントま
 で今日のイベント検索やスケジュールを決めるならち
 っくたっく
X-WR-CALNAME:ちっくたっく
X-WR-TIMEZONE:UTC
BEGIN:VEVENT
SUMMARY:Banda da Paz
DTSTART;VALUE=DATE:20260521
DTEND;VALUE=DATE:20260522
UID:180959047600
DESCRIPTION:Open１８:３０　Start１９：３０ \n MC：予約３
 ５００円　当日４0００円　＋ １drink＋１Food＋〈10%税〉
  \n \n上杉優〈Vo\,Tb〉 \n福井亜実（pf） \n小畑和彦〈
 Ｇt〉 \n山下 ハルト〈Drs〉\n\n\n 【ご予約】お名前・電
 話番号・人数 を添えてお申し込みください。 \nご予約
  – Espaço Brasil〈エスパッソ・ブラジル〉
LOCATION:
END:VEVENT
END:VCALENDAR
