BEGIN:VCALENDAR
VERSION:2.0
PRODID:-//chikkutakku.com//RDFCal 1.0//EN
X-WR-CALDESC:GoogleカレンダーやiCalendar形式情報を共有シェ
 アしましょう。近所のイベントから全国のイベントま
 で今日のイベント検索やスケジュールを決めるならち
 っくたっく
X-WR-CALNAME:ちっくたっく
X-WR-TIMEZONE:UTC
BEGIN:VEVENT
SUMMARY: ร่วมแสดงความยินดีแก่ผ
 ู้ได้รับรางวัลอาจารย์ดีเ
 ด่น ประจำปี พ.ศ. 2568
DTSTART;VALUE=DATE-TIME:20260428T003000Z
DTEND;VALUE=DATE-TIME:20260428T033000Z
UID:181208453426
DESCRIPTION:เรื่อง: 🎉 ร่วมแสดงความ
 ยินดีแก่ผู้ได้รับรางวัลอ
 าจารย์ดีเด่น ประจำปี พ.ศ. 2568
 วัน/เวลา: 🗓️ วันอังคารที่ 28 
 เมษายน 2569 เวลา 07.30 น. เป็นต้นไ
 ปสถานที่: 📍 หอดนตรีและการแ
 สดง อโศกมนตรี อาคารนวัตกรร
 ม : ศาสตราจารย์ ดร. สาโรช บัว
 ศรี ชั้น 4 มหาวิทยาลัยศรีนค
 รินทรวิโรฒ ประสานมิตรรายล
 ะเอียด: 👏 เข้าร่วมแสดงความ
 ยินดีและถ่ายภาพร่วมกับผู
 ้ได้รับรางวัลอาจารย์ดีเด
 ่น ได้แก่ ผู้ช่วยศาสตราจาร
 ย์ ดร.พิมพาภรณ์ บุญประเสริ
 ฐ สาขามนุษยศาสตร์
LOCATION:หอดนตรีและการแสดง อโศก
 มนตรี อาคารนวัตกรรม : ศาสตร
 าจารย์ ดร. สาโรช บัวศรี ชั้น
  4 มหาวิทยาลัยศรีนครินทรวิ
 โรฒ ประสานมิตร
END:VEVENT
END:VCALENDAR
