BEGIN:VCALENDAR
VERSION:2.0
PRODID:-//chikkutakku.com//RDFCal 1.0//EN
X-WR-CALDESC:GoogleカレンダーやiCalendar形式情報を共有シェ
 アしましょう。近所のイベントから全国のイベントま
 で今日のイベント検索やスケジュールを決めるならち
 っくたっく
X-WR-CALNAME:ちっくたっく
X-WR-TIMEZONE:UTC
BEGIN:VEVENT
SUMMARY:【楽天ブックス限定先着特典】すっぴん (初回生
 産限定盤 CD＋オリジナルグッズ)(オリジナルクリアファ
 イル)
DTSTART;VALUE=DATE:20260519
DTEND;VALUE=DATE:20260520
UID:181895215987
DESCRIPTION:2026-05-20【楽天ブックス限定先着特典】すっぴ
 ん (初回生産限定盤 CD＋オリジナルグッズ)(オリジナル
 クリアファイル)Conton Candy(株)ソニー・ミュージックレ
 ーベルズ
LOCATION:
END:VEVENT
END:VCALENDAR
