BEGIN:VCALENDAR
VERSION:2.0
PRODID:-//chikkutakku.com//RDFCal 1.0//EN
X-WR-CALDESC:GoogleカレンダーやiCalendar形式情報を共有シェ
 アしましょう。近所のイベントから全国のイベントま
 で今日のイベント検索やスケジュールを決めるならち
 っくたっく
X-WR-CALNAME:ちっくたっく
X-WR-TIMEZONE:UTC
BEGIN:VEVENT
SUMMARY:พจ. เข้าร่วมประชุมคณะทำ
 งานตรวจติดตามและประเมินผ
 ลโครงการ ประจำปีงบประมาณ พ
 .ศ. 2569 ครั้งที่ 4/2569 ณ ห้องประชุ
 มสระกำแพงใหญ่ ชั้น 4 ศาลากล
 างจังหวัดศรีสะเกษ 
DTSTART;VALUE=DATE-TIME:20260422T063000Z
DTEND;VALUE=DATE-TIME:20260422T073000Z
UID:182001609366
DESCRIPTION:พจ. เข้าร่วมประชุมคณะท
 ำงานตรวจติดตามและประเมิน
 ผลโครงการ ประจำปีงบประมาณ 
 พ.ศ. 2569 ครั้งที่ 4/2569 ณ ห้องประช
 ุมสระกำแพงใหญ่ ชั้น 4 ศาลาก
 ลางจังหวัดศรีสะเกษ 
LOCATION:
END:VEVENT
END:VCALENDAR
