BEGIN:VCALENDAR
VERSION:2.0
PRODID:-//chikkutakku.com//RDFCal 1.0//EN
X-WR-CALDESC:GoogleカレンダーやiCalendar形式情報を共有シェ
 アしましょう。近所のイベントから全国のイベントま
 で今日のイベント検索やスケジュールを決めるならち
 っくたっく
X-WR-CALNAME:ちっくたっく
X-WR-TIMEZONE:UTC
BEGIN:VEVENT
SUMMARY:【注】異世界でチート能力を手にした俺は、現実
 世界をも無双する TVSP 
DTSTART;VALUE=DATE-TIME:20260423T123000Z
DTEND;VALUE=DATE-TIME:20260423T133000Z
UID:182440609819
DESCRIPTION: /  / https://abema.tv/channels/abema-anime/slots/Ah77nwBg1745
 kT リピート放送は (#1～#13+TVSP) 異世界・ファンタジーア
 ニメチャンネル 4/24(金) 14:00～ https://abema.tv/channels/isekai-
 anime/slots/AkN7YpedfYm7PV (無料TS1週間)
LOCATION:Abemaアニメ
END:VEVENT
END:VCALENDAR
