BEGIN:VCALENDAR
VERSION:2.0
PRODID:-//chikkutakku.com//RDFCal 1.0//EN
X-WR-CALDESC:GoogleカレンダーやiCalendar形式情報を共有シェ
 アしましょう。近所のイベントから全国のイベントま
 で今日のイベント検索やスケジュールを決めるならち
 っくたっく
X-WR-CALNAME:ちっくたっく
X-WR-TIMEZONE:UTC
BEGIN:VEVENT
SUMMARY:7/8 Band Rehearsal - LHS
DTSTART;VALUE=DATE-TIME:20260508T003000Z
DTEND;VALUE=DATE-TIME:20260508T013000Z
UID:182919224416
DESCRIPTION:7/8 Band Rehearsal - LHS
LOCATION:
END:VEVENT
END:VCALENDAR
