BEGIN:VCALENDAR
VERSION:2.0
PRODID:-//chikkutakku.com//RDFCal 1.0//EN
X-WR-CALDESC:GoogleカレンダーやiCalendar形式情報を共有シェ
 アしましょう。近所のイベントから全国のイベントま
 で今日のイベント検索やスケジュールを決めるならち
 っくたっく
X-WR-CALNAME:ちっくたっく
X-WR-TIMEZONE:UTC
BEGIN:VEVENT
SUMMARY:World Challenge Leadership Training Day (Year 7/8)
DTSTART;VALUE=DATE-TIME:20260422T210000Z
DTEND;VALUE=DATE-TIME:20260423T023000Z
UID:183099417013
DESCRIPTION:World Challenge Leadership Training Day (Year 7/8)
LOCATION:(Vehicle)-Vans-Sports Centre Car Park-Minivan: Mercedes LAH332 (1
 1 seater excluding driver) automatic. Driver must hold a full NZ driving l
 icence and aged over 25 years (11)
END:VEVENT
END:VCALENDAR
