BEGIN:VCALENDAR
VERSION:2.0
PRODID:-//chikkutakku.com//RDFCal 1.0//EN
X-WR-CALDESC:GoogleカレンダーやiCalendar形式情報を共有シェ
 アしましょう。近所のイベントから全国のイベントま
 で今日のイベント検索やスケジュールを決めるならち
 っくたっく
X-WR-CALNAME:ちっくたっく
X-WR-TIMEZONE:UTC
BEGIN:VEVENT
SUMMARY:4th grade to Ft. Scott
DTSTART;VALUE=DATE-TIME:20260508T131500Z
DTEND;VALUE=DATE-TIME:20260508T201500Z
UID:183294467421
DESCRIPTION:4th grade to Ft. Scott
LOCATION:
END:VEVENT
END:VCALENDAR
