BEGIN:VCALENDAR
VERSION:2.0
PRODID:-//chikkutakku.com//RDFCal 1.0//EN
X-WR-CALDESC:GoogleカレンダーやiCalendar形式情報を共有シェ
 アしましょう。近所のイベントから全国のイベントま
 で今日のイベント検索やスケジュールを決めるならち
 っくたっく
X-WR-CALNAME:ちっくたっく
X-WR-TIMEZONE:UTC
BEGIN:VEVENT
SUMMARY:【Android 対応】あひる喫茶Waddle
DTSTART;VALUE=DATE-TIME:20260425T113000Z
DTEND;VALUE=DATE-TIME:20260425T123000Z
UID:183535078758
DESCRIPTION:【イベント主催者】\n　れみあ\n【イベント内
 容】\n　\n【イベントジャンル】\n　店舗系イベント\n【
 参加条件（モデル、人数制限など）】\n　・グループに
 参加していること\n・アバターダウンロードサイズは50M
 B以下でお願いします\n・過度なパーティクルや、セン
 シティブな表現がされたアバターはお控えください\n【
 参加方法】\n　グループに参加の上、時間になりました
 らグループインスタンスを開きますのでそちらにご参
 加ください\n※インスタンス数は当日のキャスト状況に
 より1～2で変動します\n【備考】\n　・イベント中のキ
 ャストへのフレンド申請はご遠慮ください\n・グループ
 参加まだの方は下記URLからご参加ください\nvrc.group/WADDL
 E.5627
LOCATION:
END:VEVENT
END:VCALENDAR
