BEGIN:VCALENDAR
VERSION:2.0
PRODID:-//chikkutakku.com//RDFCal 1.0//EN
X-WR-CALDESC:GoogleカレンダーやiCalendar形式情報を共有シェ
 アしましょう。近所のイベントから全国のイベントま
 で今日のイベント検索やスケジュールを決めるならち
 っくたっく
X-WR-CALNAME:ちっくたっく
X-WR-TIMEZONE:UTC
BEGIN:VEVENT
SUMMARY:Tufts FMS Film Festival: Documentary Film
DTSTART;VALUE=DATE-TIME:20260428T220000Z
DTEND;VALUE=DATE-TIME:20260428T234500Z
UID:183606583341
DESCRIPTION:Building: Barnum Hall\nCity: Medford\, MA 02155\nCampus: Medfo
 rd/Somerville campus\nLocation Details: Barnum LL08\n163 Packard Ave\, Med
 ford\nOpen to Public: Yes\nPrimary Audience: Students (Undergraduate)\nEve
 nt Type: Film Screening\nEvent Sponsor: School of Arts and Sciences\nEvent
  Sponsor Department / Area: Film and Media Studies program\nEvent Sponsor 
 Details: Film and Media Studies\nEvent Contact Name: Gina O'Connor\nEvent 
 Contact Email: gina.o_connor@tufts.edu\n\nFMS Student Film Festival\nDocum
 entary Film\nPart 1 of 2 (also Tuesday\, 4/29 6:00-7:45 pm)\n\nFeaturing f
 ilms from Natalie Minik's Advanced Documentary students Doo Min Bang\, Dan
 iel Cece\, Sofia Daffin\, Geri Hart\, Julia Hioe\, Quinn Kessel\, Max Kind
 \, Sophie Littman\, John Mulvihill\, Zander Penn\, Alex Wu\, Tom Xiao\, an
 d Keyu (Jack) Zhu.\n\n\nFull Film Festival Schedule\nTuesday\, April 28\n6
 :00-7:45 Advanced Documentary\, part 1\n8:00-9:00 Script to Screen\; Direc
 ted Study \n\nWednesday\, April 29\n6:00-7:45 Advanced Documentary\, part 
 2\n8:00-9:00 AI in Motion\; Media Futures Lab\; Experimental Film\n9:00 Me
 dia Future’s Lab installation on Tisch Roof\n\nThursday\, April 30 \n6:0
 0-8:00 Senior Honors Thesis\, part 1\n8:00-8:30 Intermission\n8:30-10:00 S
 enior Honors Thesis\, part 2
LOCATION:Tufts University-Medford Somerville Campus: Barnum LL08
END:VEVENT
END:VCALENDAR
