BEGIN:VCALENDAR
VERSION:2.0
PRODID:-//chikkutakku.com//RDFCal 1.0//EN
X-WR-CALDESC:GoogleカレンダーやiCalendar形式情報を共有シェ
 アしましょう。近所のイベントから全国のイベントま
 で今日のイベント検索やスケジュールを決めるならち
 っくたっく
X-WR-CALNAME:ちっくたっく
X-WR-TIMEZONE:UTC
BEGIN:VEVENT
SUMMARY:【学園RP】特別営業「ようこそ！七星学園へ！」B
 ar Lithops(リトープス)
DTSTART;VALUE=DATE-TIME:20260424T135000Z
DTEND;VALUE=DATE-TIME:20260424T145900Z
UID:183651395368
DESCRIPTION:【イベント主催者】\n　えたお～（@etaetao_)\n【
 イベント内容】\n　【七色の出会いが、君を待っている
 ！】\n「ようこそ！七星学園へ！」は、当イベント初！
 全キャストのコンセプトを統一した学園RPとなります
 🏫皆さんには「七星学園」の新入生として交流会に参
 加することになります！服装は自由！人種も自由！RPも
 自由！好きな装いで来てくださいね✨\n\n情報発信Xアカ
 ウント： https://x.com/VRC_BarLithops\n【イベントジャンル】\
 n　店舗系イベント\, ロールプレイ\, 初心者向けイベン
 ト\, 定期イベント\n【参加条件（モデル、人数制限など
 ）】\n　New User以上・VCでの意思疎通が可能な方\n【参加
 方法】\n　22：50～　グループOnlyインスタンスにJoin\n23
 ：10～　営業開始(途中参加も可です)\n【備考】\n　グル
 ープページリンク\nhttps://vrc.group/BARLIT.6418
LOCATION:
END:VEVENT
END:VCALENDAR
