BEGIN:VCALENDAR
VERSION:2.0
PRODID:-//chikkutakku.com//RDFCal 1.0//EN
X-WR-CALDESC:GoogleカレンダーやiCalendar形式情報を共有シェ
 アしましょう。近所のイベントから全国のイベントま
 で今日のイベント検索やスケジュールを決めるならち
 っくたっく
X-WR-CALNAME:ちっくたっく
X-WR-TIMEZONE:UTC
BEGIN:VEVENT
SUMMARY:2PM Japan 15th Anniversary Concert “THE RETURN” in TOKYO DOME
DTSTART;VALUE=DATE:20260509
DTEND;VALUE=DATE:20260510
UID:184309028857
DESCRIPTION:open 13:00 / start 15:00\n\n【関連/参考ページ】\nhttp
 ://www.tokyo-dome.co.jp/ （東京ドーム）
LOCATION:東京ドーム【関東】
END:VEVENT
END:VCALENDAR
