BEGIN:VCALENDAR
VERSION:2.0
PRODID:-//chikkutakku.com//RDFCal 1.0//EN
X-WR-CALDESC:GoogleカレンダーやiCalendar形式情報を共有シェ
 アしましょう。近所のイベントから全国のイベントま
 で今日のイベント検索やスケジュールを決めるならち
 っくたっく
X-WR-CALNAME:ちっくたっく
X-WR-TIMEZONE:UTC
BEGIN:VEVENT
SUMMARY:バスケットボール（目黒）
DTSTART;VALUE=DATE-TIME:20260517T040000Z
DTEND;VALUE=DATE-TIME:20260517T080000Z
UID:184516945699
DESCRIPTION:①13:00　～　15:00\n\n②15:00　～　17:00\n\n代々木
 会場と合同
LOCATION:オリンピックセンター第一体育館
END:VEVENT
END:VCALENDAR
