BEGIN:VCALENDAR
VERSION:2.0
PRODID:-//chikkutakku.com//RDFCal 1.0//EN
X-WR-CALDESC:GoogleカレンダーやiCalendar形式情報を共有シェ
 アしましょう。近所のイベントから全国のイベントま
 で今日のイベント検索やスケジュールを決めるならち
 っくたっく
X-WR-CALNAME:ちっくたっく
X-WR-TIMEZONE:UTC
BEGIN:VEVENT
SUMMARY:野田クリの野望 #48 「「利用規約に同意したい」
 ゲスト：べすとまん」
DTSTART;VALUE=DATE-TIME:20260421T122500Z
DTEND;VALUE=DATE-TIME:20260421T125400Z
UID:184970212328
DESCRIPTION:48 / 「利用規約に同意したい」ゲスト：べすと
 まん / 
LOCATION:TOKYO MX
END:VEVENT
END:VCALENDAR
