BEGIN:VCALENDAR
VERSION:2.0
PRODID:-//chikkutakku.com//RDFCal 1.0//EN
X-WR-CALDESC:GoogleカレンダーやiCalendar形式情報を共有シェ
 アしましょう。近所のイベントから全国のイベントま
 で今日のイベント検索やスケジュールを決めるならち
 っくたっく
X-WR-CALNAME:ちっくたっく
X-WR-TIMEZONE:UTC
BEGIN:VEVENT
SUMMARY:マクドーサバ
DTSTART;VALUE=DATE:20260505
DTEND;VALUE=DATE:20260506
UID:185932878997
DESCRIPTION:よーコム京都本店様 1名　　　店舗\nよう様 1
 名\nCROSS WIZARD’s様 1名　\n六原分団様 1名 b1\nグラスラン
 ナー様 5名\nしぎんと様 1名\nohs様 2名\nワイルドギース
 様 1名\nKS部隊様 2名\nよーコム岸和田支店様 1名\nＳＭＺ
 ！😃様 2名様 3名\nギルド♡イシグロ様 1名\nピン熊様 1
 名\nisg様 1名\nよーコム八尾支店様 3名\nガンず様 3名\n志
 摩亭様 1名　　　　　　　　店舗\n龍二様 1名\nおーし様
  1名\nBaseEXCHANGE様 2名　　店舗\nOkj様 1名\nAFE/アリス隊様 
 2名　　　　店舗\nphantom様 1名\nスペツナズ様 1名\nAFE/ア
 リス隊様 2名\nサバゲーしたい!様 1名\nサンダーボルト
 様 4名　　　店舗\nベリベリ商店様 1名　　　　店舗\nSTY
 様 1名　　　　　　　　店舗\nシャケ様 4名\nジェットス
 トリームアタック様 3名\nMONARCH様 3名\nバイソン（偽）
 様 1名\nきゅうぴい１号様 2名\nAN様 2名\nデコイ551様 2名\
 n3K様 1名\nテキーラ様 3名\nビックムー様 1名\nEFF様 1名\nL
 FL様 2名\nカミムラデス。様 1名\n武器商人様 1名
LOCATION:
END:VEVENT
END:VCALENDAR
