BEGIN:VCALENDAR
VERSION:2.0
PRODID:-//chikkutakku.com//RDFCal 1.0//EN
X-WR-CALDESC:GoogleカレンダーやiCalendar形式情報を共有シェ
 アしましょう。近所のイベントから全国のイベントま
 で今日のイベント検索やスケジュールを決めるならち
 っくたっく
X-WR-CALNAME:ちっくたっく
X-WR-TIMEZONE:UTC
BEGIN:VEVENT
SUMMARY:(B) Analog Counterculture: Hectograph and Spirit Duplication 
DTSTART;VALUE=DATE-TIME:20260504T213000Z
DTEND;VALUE=DATE-TIME:20260505T013000Z
UID:185998953000
DESCRIPTION:https://docs.google.com/document/d/13Id9yUaoc1-z9fg8bVDhXokP3O
 fxTa5YEilk1AV2xGM/edit?usp=sharinghttps://shop.centerforbookarts.org/produ
 cts/26spm017i
LOCATION:CBA-3-Bindery (80)
END:VEVENT
END:VCALENDAR
