BEGIN:VCALENDAR
VERSION:2.0
PRODID:-//chikkutakku.com//RDFCal 1.0//EN
X-WR-CALDESC:GoogleカレンダーやiCalendar形式情報を共有シェ
 アしましょう。近所のイベントから全国のイベントま
 で今日のイベント検索やスケジュールを決めるならち
 っくたっく
X-WR-CALNAME:ちっくたっく
X-WR-TIMEZONE:UTC
BEGIN:VEVENT
SUMMARY:お隣のハイスペ御曹司は一応、私の夫です〜ビジ
 ネス婚のはずが旦那様は妻への溺愛が我慢できない〜
DTSTART;VALUE=DATE:20260508
DTEND;VALUE=DATE:20260509
UID:186313183941
DESCRIPTION:2026-05-09お隣のハイスペ御曹司は一応、私の夫
 です〜ビジネス婚のはずが旦那様は妻への溺愛が我慢
 できない〜高田ちさき/織屋イトスターツ出版
LOCATION:
END:VEVENT
END:VCALENDAR
