BEGIN:VCALENDAR
VERSION:2.0
PRODID:-//chikkutakku.com//RDFCal 1.0//EN
X-WR-CALDESC:GoogleカレンダーやiCalendar形式情報を共有シェ
 アしましょう。近所のイベントから全国のイベントま
 で今日のイベント検索やスケジュールを決めるならち
 っくたっく
X-WR-CALNAME:ちっくたっく
X-WR-TIMEZONE:UTC
BEGIN:VEVENT
SUMMARY:赤絵金彩1名橋詰様
DTSTART;VALUE=DATE-TIME:20260502T053000Z
DTEND;VALUE=DATE-TIME:20260502T070000Z
UID:186482184154
DESCRIPTION:09096680329\n長野県
LOCATION:
END:VEVENT
END:VCALENDAR
