BEGIN:VCALENDAR
VERSION:2.0
PRODID:-//chikkutakku.com//RDFCal 1.0//EN
X-WR-CALDESC:GoogleカレンダーやiCalendar形式情報を共有シェ
 アしましょう。近所のイベントから全国のイベントま
 で今日のイベント検索やスケジュールを決めるならち
 っくたっく
X-WR-CALNAME:ちっくたっく
X-WR-TIMEZONE:UTC
BEGIN:VEVENT
SUMMARY:2027年版 介護福祉士過去7年本試験問題集
DTSTART;VALUE=DATE:20260422
DTEND;VALUE=DATE:20260423
UID:186620248573
DESCRIPTION:2026-04-232027年版 介護福祉士過去7年本試験問題
 集L&L総合研究所新星出版社
LOCATION:
END:VEVENT
END:VCALENDAR
