BEGIN:VCALENDAR
VERSION:2.0
PRODID:-//chikkutakku.com//RDFCal 1.0//EN
X-WR-CALDESC:GoogleカレンダーやiCalendar形式情報を共有シェ
 アしましょう。近所のイベントから全国のイベントま
 で今日のイベント検索やスケジュールを決めるならち
 っくたっく
X-WR-CALNAME:ちっくたっく
X-WR-TIMEZONE:UTC
BEGIN:VEVENT
SUMMARY:IL2-4 vs大阪学院大学⑤
DTSTART;VALUE=DATE-TIME:20260509T064500Z
DTEND;VALUE=DATE-TIME:20260509T084500Z
UID:186654372763
DESCRIPTION:IL2-4 vs大阪学院大学⑤
LOCATION:大阪学院大学第2グラウンド\, 日本、〒566-0001 大
 阪府摂津市千里丘６丁目７
END:VEVENT
END:VCALENDAR
