BEGIN:VCALENDAR
VERSION:2.0
PRODID:-//chikkutakku.com//RDFCal 1.0//EN
X-WR-CALDESC:GoogleカレンダーやiCalendar形式情報を共有シェ
 アしましょう。近所のイベントから全国のイベントま
 で今日のイベント検索やスケジュールを決めるならち
 っくたっく
X-WR-CALNAME:ちっくたっく
X-WR-TIMEZONE:UTC
BEGIN:VEVENT
SUMMARY:【3rd】リーグ戦（かほくG）
DTSTART;VALUE=DATE-TIME:20260424T233000Z
DTEND;VALUE=DATE-TIME:20260425T031500Z
UID:187361846142
DESCRIPTION:8:30　現地集合\n9:00　審判（4th＋A1）\n9:30　ア
 ップ開始\n10:30　vs中能登中\n12:15　後片付け～現地解散
LOCATION:かほく市サッカー・ラグビー競技場\, 日本、〒92
 9-1214 石川県かほく市内高松オ−８０
END:VEVENT
END:VCALENDAR
