BEGIN:VCALENDAR
VERSION:2.0
PRODID:-//chikkutakku.com//RDFCal 1.0//EN
X-WR-CALDESC:GoogleカレンダーやiCalendar形式情報を共有シェ
 アしましょう。近所のイベントから全国のイベントま
 で今日のイベント検索やスケジュールを決めるならち
 っくたっく
X-WR-CALNAME:ちっくたっく
X-WR-TIMEZONE:UTC
BEGIN:VEVENT
SUMMARY:SIG CLI Monthly Bug Scrub Meetings
DTSTART;VALUE=DATE-TIME:20260422T070000Z
DTEND;VALUE=DATE-TIME:20260422T070000Z
UID:187426925900
DESCRIPTION:Join Zoom Meetinghttps://zoom.us/j/288426795?pwd=UDdoYnFyNjBiS
 1RHcXRxS1BCNy9wUT09Passcode77777
LOCATION:https://zoom.us/j/288426795
END:VEVENT
END:VCALENDAR
