BEGIN:VCALENDAR
VERSION:2.0
PRODID:-//chikkutakku.com//RDFCal 1.0//EN
X-WR-CALDESC:GoogleカレンダーやiCalendar形式情報を共有シェ
 アしましょう。近所のイベントから全国のイベントま
 で今日のイベント検索やスケジュールを決めるならち
 っくたっく
X-WR-CALNAME:ちっくたっく
X-WR-TIMEZONE:UTC
BEGIN:VEVENT
SUMMARY:【注】異世界チート魔術師 #1 異世界からの「迷
 い人」 / #2 魔術修行 / #3 駆け出し冒険者 / #4 真紅の契
 約 / #5 策動の匂い / #6 アズパイア防衛戦 / #7 召喚術師 /
  #8 王都ウェネーフィクス / #9 戦のはじまり / #10 ひとつ
 の決着 / #11 マーウォルトの会戦 / #12 異世界チート魔術
 師 / #13 宵星の祭りと魔術師
DTSTART;VALUE=DATE-TIME:20260419T233000Z
DTEND;VALUE=DATE-TIME:20260420T060000Z
UID:187682757976
DESCRIPTION: / #1 異世界からの「迷い人」 / #2 魔術修行 / #3
  駆け出し冒険者 / #4 真紅の契約 / #5 策動の匂い / #6 ア
 ズパイア防衛戦 / #7 召喚術師 / #8 王都ウェネーフィク
 ス / #9 戦のはじまり / #10 ひとつの決着 / #11 マーウォル
 トの会戦 / #12 異世界チート魔術師 / #13 宵星の祭りと魔
 術師 / (#13は未放送話) ([[異世界・ファンタジー3 https://a
 bema.tv/timetable/channels/isekai-anime-3]]) https://abema.tv/channels/ise
 kai-anime-3/slots/AkN7WQPFQFSd6f リピート放送は 21:30～ https://ab
 ema.tv/channels/isekai-anime-3/slots/AkN7Xv1YnFWhzo (無料TS2週間)
LOCATION:ABEMA特設その他
END:VEVENT
END:VCALENDAR
