BEGIN:VCALENDAR
VERSION:2.0
PRODID:-//chikkutakku.com//RDFCal 1.0//EN
X-WR-CALDESC:GoogleカレンダーやiCalendar形式情報を共有シェ
 アしましょう。近所のイベントから全国のイベントま
 で今日のイベント検索やスケジュールを決めるならち
 っくたっく
X-WR-CALNAME:ちっくたっく
X-WR-TIMEZONE:UTC
BEGIN:VEVENT
SUMMARY:Sea house ココナツ
DTSTART;VALUE=DATE-TIME:20260425T133000Z
DTEND;VALUE=DATE-TIME:20260425T143000Z
UID:187908093686
DESCRIPTION:【イベント主催者】\n　  @merumetto\n【イベント
 内容】\n　小さな浜辺の海の家でゆったりとした時間を
 過ごしませんか。\n海の家をコンセプトとした、ゆるく
 雑談ができる、Barイベントです。\n１対２～３接客　本
 日プレオープン\n【イベントジャンル】\n　その他交流
 会\, 店舗系イベント\, ロールプレイ\, 初心者向けイベ
 ント\n【参加条件（モデル、人数制限など）】\n　　特
 になし\n【参加方法】\n　Group＋にJoin \n【備考】\n　
LOCATION:
END:VEVENT
END:VCALENDAR
