BEGIN:VCALENDAR
VERSION:2.0
PRODID:-//chikkutakku.com//RDFCal 1.0//EN
X-WR-CALDESC:GoogleカレンダーやiCalendar形式情報を共有シェ
 アしましょう。近所のイベントから全国のイベントま
 で今日のイベント検索やスケジュールを決めるならち
 っくたっく
X-WR-CALNAME:ちっくたっく
X-WR-TIMEZONE:UTC
BEGIN:VEVENT
SUMMARY:SBY (NOT MEETING) (4-5 grade room 121) \,(6-12 grade room 102) 
DTSTART;VALUE=DATE-TIME:20260503T133000Z
DTEND;VALUE=DATE-TIME:20260503T143000Z
UID:187967177688
DESCRIPTION:(4-5 grade room 121) \,(6-12 grade room 102)\n\n通过 Google 
 Hangouts 加入：https://hangouts.google.com/hangouts/_/calendar/c3Rvbnli
 cm9va3VtYy5vcmdfMmQzOTM0MzQzMTM0MzYzMzM2MmQzOTM3MzNAcmVzb3VyY2UuY2FsZW5kYX
 IuZ29vZ2xlLmNvbQ.nh2uh15hi20liolrsn3u776ast?hs=121
LOCATION:Room 102 - SBY\, Room-121 @Stonybrook UMC\, 485 Cherry Bottom Roa
 d\, Gahanna\, OH
END:VEVENT
END:VCALENDAR
