BEGIN:VCALENDAR
VERSION:2.0
PRODID:-//chikkutakku.com//RDFCal 1.0//EN
X-WR-CALDESC:GoogleカレンダーやiCalendar形式情報を共有シェ
 アしましょう。近所のイベントから全国のイベントま
 で今日のイベント検索やスケジュールを決めるならち
 っくたっく
X-WR-CALNAME:ちっくたっく
X-WR-TIMEZONE:UTC
BEGIN:VEVENT
SUMMARY:俺だけ不遇スキルの異世界召喚叛逆記 15 〜最弱
 スキル【吸収】が全てを飲み込むまで〜
DTSTART;VALUE=DATE:20260518
DTEND;VALUE=DATE:20260519
UID:188414033307
DESCRIPTION:2026-05-19俺だけ不遇スキルの異世界召喚叛逆記 
 15 〜最弱スキル【吸収】が全てを飲み込むまで〜高幡 
 隆盛/すかいふぁーむ集英社
LOCATION:
END:VEVENT
END:VCALENDAR
