BEGIN:VCALENDAR
VERSION:2.0
PRODID:-//chikkutakku.com//RDFCal 1.0//EN
X-WR-CALDESC:GoogleカレンダーやiCalendar形式情報を共有シェ
 アしましょう。近所のイベントから全国のイベントま
 で今日のイベント検索やスケジュールを決めるならち
 っくたっく
X-WR-CALNAME:ちっくたっく
X-WR-TIMEZONE:UTC
BEGIN:VEVENT
SUMMARY:★お天気キャスター蓬莱さんのドライブ予報 4/28(
 火)21:54-22:00 よみうりテレビ(近畿広域圏 Ch.10)
DTSTART;VALUE=DATE-TIME:20260428T125400Z
DTEND;VALUE=DATE-TIME:20260428T130000Z
UID:188459870237
DESCRIPTION:★お天気キャスター蓬莱さんのドライブ予報\n
 4/28(火)21:54-22:00 よみうりテレビ(近畿広域圏 Ch.10)\n和歌
 山・日高町ヤッホーポイント\n▽阪和道・有田ICを降り
 椿山ダム湖へ▽絶景のやまびこスポットとは？\nhttp://ww
 w.ytv.co.jp/hourai_drive/
LOCATION:
END:VEVENT
END:VCALENDAR
