BEGIN:VCALENDAR
VERSION:2.0
PRODID:-//chikkutakku.com//RDFCal 1.0//EN
X-WR-CALDESC:GoogleカレンダーやiCalendar形式情報を共有シェ
 アしましょう。近所のイベントから全国のイベントま
 で今日のイベント検索やスケジュールを決めるならち
 っくたっく
X-WR-CALNAME:ちっくたっく
X-WR-TIMEZONE:UTC
BEGIN:VEVENT
SUMMARY:อบรมและศึกษาดูงาน “การ
 นำผลงานวิจัยและนวัตกรรมไ
 ปใช้เชิงพาณิชย์”
DTSTART;VALUE=DATE-TIME:20260505T013000Z
DTEND;VALUE=DATE-TIME:20260505T030000Z
UID:188857349906
DESCRIPTION:หัวข้อ: อบรมและศึกษาดู
 งาน “การนำผลงานวิจัยและนว
 ัตกรรมไปใช้เชิงพาณิชย์”ร
 ายละเอียด:ได้รับอนุมัติเข
 ้าร่วมโครงการฝึกอบรมและศ
 ึกษาดูงานต่างประเทศหัวข้
 อ: แนวทางการนำผลงานวิจัยแล
 ะนวัตกรรมไปใช้ประโยชน์เช
 ิงพาณิชย์กำหนดการ:📅 5 พ.ค. 2569 |
  เวลา 08:30 น.อบรมออนไลน์ผ่าน Zoom
 ✈️ 9–15 พ.ค. 2569ศึกษาดูงาน ณ เมือ
 งเมลเบิร์น ประเทศออสเตรเล
 ียหมายเหตุ:สถาบันฯ จะแจ้งร
 ายละเอียดการโอนเงินและค่
 าใช้จ่ายเพิ่มเติมภายหลัง
 ติดต่อ:กิ๊บ โทร. 081-424-4044 (สถาบั
 นยุทธศาสตร์ทางปัญญาและวิ
 จัย)
LOCATION:อบรมออนไลน์ผ่าน Zoom
END:VEVENT
END:VCALENDAR
