BEGIN:VCALENDAR
VERSION:2.0
PRODID:-//chikkutakku.com//RDFCal 1.0//EN
X-WR-CALDESC:GoogleカレンダーやiCalendar形式情報を共有シェ
 アしましょう。近所のイベントから全国のイベントま
 で今日のイベント検索やスケジュールを決めるならち
 っくたっく
X-WR-CALNAME:ちっくたっく
X-WR-TIMEZONE:UTC
BEGIN:VEVENT
SUMMARY:【Android 対応】【６周年】イロナちゃん集会
DTSTART;VALUE=DATE-TIME:20260428T130000Z
DTEND;VALUE=DATE-TIME:20260428T130000Z
UID:189284834791
DESCRIPTION:【イベント主催者】\n　Kagerou\n【イベント内容
 】\n　Mode Irona 6周年！！\n第16回イロナちゃん集会開催
 ！！\n【イベントジャンル】\n　改変アバター交流会\n
 【参加条件（モデル、人数制限など）】\n　Mode Ironaを
 愛用してくださる方\n【参加方法】\n　”Kagerou”にJoin\n
 【備考】\n　
LOCATION:
END:VEVENT
END:VCALENDAR
