BEGIN:VCALENDAR
VERSION:2.0
PRODID:-//chikkutakku.com//RDFCal 1.0//EN
X-WR-CALDESC:GoogleカレンダーやiCalendar形式情報を共有シェ
 アしましょう。近所のイベントから全国のイベントま
 で今日のイベント検索やスケジュールを決めるならち
 っくたっく
X-WR-CALNAME:ちっくたっく
X-WR-TIMEZONE:UTC
BEGIN:VEVENT
SUMMARY:1億人を敵にしても動じない鋼のメンタル術
DTSTART;VALUE=DATE:20260514
DTEND;VALUE=DATE:20260515
UID:189559509371
DESCRIPTION:2026-05-151億人を敵にしても動じない鋼のメンタ
 ル術堀田 秀吾宝島社
LOCATION:
END:VEVENT
END:VCALENDAR
