BEGIN:VCALENDAR
VERSION:2.0
PRODID:-//chikkutakku.com//RDFCal 1.0//EN
X-WR-CALDESC:GoogleカレンダーやiCalendar形式情報を共有シェ
 アしましょう。近所のイベントから全国のイベントま
 で今日のイベント検索やスケジュールを決めるならち
 っくたっく
X-WR-CALNAME:ちっくたっく
X-WR-TIMEZONE:UTC
BEGIN:VEVENT
SUMMARY:ガンダムデカールNo.143 HG 1/144 機動戦士ガンダム 
 閃光のハサウェイ汎用(2) (プラモデル)
DTSTART;VALUE=DATE:20260424
DTEND;VALUE=DATE:20260425
UID:190178211658
DESCRIPTION:2026-04-25ガンダムデカールNo.143 HG 1/144 機動戦士
 ガンダム 閃光のハサウェイ汎用(2) (プラモデル)BANDAI SPI
 RITS
LOCATION:
END:VEVENT
END:VCALENDAR
