BEGIN:VCALENDAR
VERSION:2.0
PRODID:-//chikkutakku.com//RDFCal 1.0//EN
X-WR-CALDESC:GoogleカレンダーやiCalendar形式情報を共有シェ
 アしましょう。近所のイベントから全国のイベントま
 で今日のイベント検索やスケジュールを決めるならち
 っくたっく
X-WR-CALNAME:ちっくたっく
X-WR-TIMEZONE:UTC
BEGIN:VEVENT
SUMMARY:12:30Re:L!FE ぴあのうた
DTSTART;VALUE=DATE:20260424
DTEND;VALUE=DATE:20260425
UID:190511406741
DESCRIPTION:4月25日(土)Re:L!FE ぴあのうた ミニLIVE【会場】
 兵庫エコール・リラショッピングセンター 2Fぴあのひ
 ろば【出演】松中啓憲 /Cooley High Harmony /想ワレ【時間】
 12:30~/15:00~想ワレは13:00~と15:00~出演予定※観覧無料※雨
 天決行
LOCATION:
END:VEVENT
END:VCALENDAR
