BEGIN:VCALENDAR
VERSION:2.0
PRODID:-//chikkutakku.com//RDFCal 1.0//EN
X-WR-CALDESC:GoogleカレンダーやiCalendar形式情報を共有シェ
 アしましょう。近所のイベントから全国のイベントま
 で今日のイベント検索やスケジュールを決めるならち
 っくたっく
X-WR-CALNAME:ちっくたっく
X-WR-TIMEZONE:UTC
BEGIN:VEVENT
SUMMARY:Athletic Awards Banquet
DTSTART;VALUE=DATE-TIME:20260513T230000Z
DTEND;VALUE=DATE-TIME:20260514T010000Z
UID:191047254022
DESCRIPTION:GYM\nJeff Lionnett\n\n通过 Google Meet 加入：https://meet
 .google.com/qrp-cuwb-hyo\n或者拨打以下号码：(US) +1 401-646-0965 
 PIN 码： 179354553#\n更多电话号码: https://tel.meet/qrp-cuwb-hyo?p
 in=4702404246725&hs=7\n\n如需详细了解 Google Meet，请访问：http
 s://support.google.com/a/users/answer/9282720
LOCATION:
END:VEVENT
END:VCALENDAR
