BEGIN:VCALENDAR
VERSION:2.0
PRODID:-//chikkutakku.com//RDFCal 1.0//EN
X-WR-CALDESC:GoogleカレンダーやiCalendar形式情報を共有シェ
 アしましょう。近所のイベントから全国のイベントま
 で今日のイベント検索やスケジュールを決めるならち
 っくたっく
X-WR-CALNAME:ちっくたっく
X-WR-TIMEZONE:UTC
BEGIN:VEVENT
SUMMARY:新入生説明会(鳥取梨葉プロジェクト（結梨）)
DTSTART;VALUE=DATE-TIME:20260421T093000Z
DTEND;VALUE=DATE-TIME:20260421T110000Z
UID:191072088304
DESCRIPTION:▼申込内容\n予約日時: 2026/02/27 15:10:40\nお名前
 　: 福谷悠真(鳥取梨葉プロジェクト（結梨）)\n予約日
 　: 2026/04/21(火)\n予約時間: 18:30～20:00
LOCATION:
END:VEVENT
END:VCALENDAR
