BEGIN:VCALENDAR
VERSION:2.0
PRODID:-//chikkutakku.com//RDFCal 1.0//EN
X-WR-CALDESC:GoogleカレンダーやiCalendar形式情報を共有シェ
 アしましょう。近所のイベントから全国のイベントま
 で今日のイベント検索やスケジュールを決めるならち
 っくたっく
X-WR-CALNAME:ちっくたっく
X-WR-TIMEZONE:UTC
BEGIN:VEVENT
SUMMARY:ALTTPR League S8 Invitational: Uncle Routers_Don't Forget to Track
  Us
DTSTART;VALUE=DATE-TIME:20260424T030000Z
DTEND;VALUE=DATE-TIME:20260424T053000Z
UID:191255606155
DESCRIPTION:A Link to the Past Randomizer Invitational League Season 8\nAm
 arith/Flipheal. Bread-kun/prdwong\nhttp://twitch.tv/SpeedGaming\n\n\n[upda
 ted 2026-04-23T15:31:31+00:00]
LOCATION:
END:VEVENT
END:VCALENDAR
