BEGIN:VCALENDAR
VERSION:2.0
PRODID:-//chikkutakku.com//RDFCal 1.0//EN
X-WR-CALDESC:GoogleカレンダーやiCalendar形式情報を共有シェ
 アしましょう。近所のイベントから全国のイベントま
 で今日のイベント検索やスケジュールを決めるならち
 っくたっく
X-WR-CALNAME:ちっくたっく
X-WR-TIMEZONE:UTC
BEGIN:VEVENT
SUMMARY:กิจกรรม “สร้างการรับรู
 ้ของผู้มีส่วนได้ส่วนเสีย
 ภายใน (IIT) ผู้มีส่วนได้ส่วนเ
 สียภายนอก (EIT) และการเปิดเผย
 ข้อมูลสาธารณะ (OIT) ของมหาวิท
 ยาลัย” ประจำปีงบประมาณ พ.ศ. 
 2569
DTSTART;VALUE=DATE-TIME:20260422T013000Z
DTEND;VALUE=DATE-TIME:20260422T083000Z
UID:191260085506
DESCRIPTION:เรียน รองอธิการบดีฝ่า
 ยวิชาการและการเรียนรู้\nเพ
 ิ่อโปรดพิจารณา\n1.อนุญาต ให้
  หัวหน้าฝ่ายฯและคุณพิมพ์ช
 นก เข้ากิจกรรม “สร้างการรั
 บรู้ของผู้มีส่วนได้ส่วนเ
 สียภายใน (IIT) ผู้มีส่วนได้ส่
 วนเสียภายนอก (EIT) และการเปิด
 เผยข้อมูลสาธารณะ (OIT) ของมหา
 วิทยาลัย” ประจำปีงบประมาณ 
 พ.ศ. 2569 ในวันพุธที่ 22 เมษายน พ.
 ศ. 2569 เวลา 08.30-15.30 น. ณ ห้องประชุม
 อ่าวทราย อาคารนวภูมินทร์ ส
 ถาบันทักษิณคดีศึกษา\nแจ้งเ
 ลขาฯลงตารางนัดหมาย\n\nจิตรา 
 ลงเมื่อ 10-04-69
LOCATION:ณ ห้องประชุมอ่าวทราย อา
 คารนวภูมินทร์ สถาบันทักษิ
 ณคดีศึกษา
END:VEVENT
END:VCALENDAR
