BEGIN:VCALENDAR
VERSION:2.0
PRODID:-//chikkutakku.com//RDFCal 1.0//EN
X-WR-CALDESC:GoogleカレンダーやiCalendar形式情報を共有シェ
 アしましょう。近所のイベントから全国のイベントま
 で今日のイベント検索やスケジュールを決めるならち
 っくたっく
X-WR-CALNAME:ちっくたっく
X-WR-TIMEZONE:UTC
BEGIN:VEVENT
SUMMARY:巨人軍物語 進め!!栄光へ
DTSTART;VALUE=DATE:20260519
DTEND;VALUE=DATE:20260520
UID:191697639608
DESCRIPTION:2026-05-20巨人軍物語 進め!!栄光へ王貞治/長嶋茂
 雄/千秋実/江原真二郎/寺島達夫/八名信夫/沢島忠/佐藤
 勝東宝(株)
LOCATION:
END:VEVENT
END:VCALENDAR
