BEGIN:VCALENDAR
VERSION:2.0
PRODID:-//chikkutakku.com//RDFCal 1.0//EN
X-WR-CALDESC:GoogleカレンダーやiCalendar形式情報を共有シェ
 アしましょう。近所のイベントから全国のイベントま
 で今日のイベント検索やスケジュールを決めるならち
 っくたっく
X-WR-CALNAME:ちっくたっく
X-WR-TIMEZONE:UTC
BEGIN:VEVENT
SUMMARY:富田ジャズストリート
DTSTART;VALUE=DATE-TIME:20260503T070000Z
DTEND;VALUE=DATE-TIME:20260503T074000Z
UID:193138998993
DESCRIPTION:5/3（日）富田ジャズストリート\n16:00〜 apericena
  Caseiro\n〒569-0814 大阪府高槻市富田町１丁目１４−８ ア
 ネックス中谷
LOCATION:
END:VEVENT
END:VCALENDAR
