BEGIN:VCALENDAR
VERSION:2.0
PRODID:-//chikkutakku.com//RDFCal 1.0//EN
X-WR-CALDESC:GoogleカレンダーやiCalendar形式情報を共有シェ
 アしましょう。近所のイベントから全国のイベントま
 で今日のイベント検索やスケジュールを決めるならち
 っくたっく
X-WR-CALNAME:ちっくたっく
X-WR-TIMEZONE:UTC
BEGIN:VEVENT
SUMMARY:予約制かき氷山猫茶屋オープン
DTSTART;VALUE=DATE-TIME:20260425T020000Z
DTEND;VALUE=DATE-TIME:20260427T080000Z
UID:193596888431
DESCRIPTION:完全予約制かき氷営業日 １月〜３月までは、
 月１回の営業になります。毎週土曜日〜月曜日の３日
 間です。 金曜日〜日曜日の日もあります。【営業時間
 】金曜日：１１時〜１６時４０分土曜日：１１時〜１
 ７時　日曜日・祝日：１０時〜１７時月曜日：１１時
 〜１６時おやすみの週も御座います（不定期）  予約
 開始は、毎週木曜日２１時開始です。※金曜日が営業
 の日は、水曜日２１時開始です。 メニューは毎週変わ
 りますので、毎週週末のみのご予約になります。 メニ
 ューは、SNSでお知らせをしています。  Instagram 　https:
 //www.instagram.com/yamanekochaya/そちらをご覧ください。  ↓
 ご予約はこちらからお願いいたします。https://airrsv.net/y
 amaneko/calendar  Instagram 　https://www.instagram.com/yamaneko2015/Fa
 cebook 　https://www.facebook.com/yamaneko2015/
LOCATION:滝見苑\, 日本、〒298-0277 千葉県夷隅郡大多喜町
 粟又２−１１　１階
END:VEVENT
END:VCALENDAR
